BEGIN:VCALENDAR
VERSION:2.0
PRODID:-//Maui Tabletop Gamers - ECPv6.15.20//NONSGML v1.0//EN
CALSCALE:GREGORIAN
METHOD:PUBLISH
X-ORIGINAL-URL:https://mauitabletopgamers.com
X-WR-CALDESC:Events for Maui Tabletop Gamers
REFRESH-INTERVAL;VALUE=DURATION:PT1H
X-Robots-Tag:noindex
X-PUBLISHED-TTL:PT1H
BEGIN:VTIMEZONE
TZID:Australia/Melbourne
BEGIN:STANDARD
TZOFFSETFROM:+1100
TZOFFSETTO:+1000
TZNAME:AEST
DTSTART:20240406T160000
END:STANDARD
BEGIN:DAYLIGHT
TZOFFSETFROM:+1000
TZOFFSETTO:+1100
TZNAME:AEDT
DTSTART:20241005T160000
END:DAYLIGHT
BEGIN:STANDARD
TZOFFSETFROM:+1100
TZOFFSETTO:+1000
TZNAME:AEST
DTSTART:20250405T160000
END:STANDARD
BEGIN:DAYLIGHT
TZOFFSETFROM:+1000
TZOFFSETTO:+1100
TZNAME:AEDT
DTSTART:20251004T160000
END:DAYLIGHT
BEGIN:STANDARD
TZOFFSETFROM:+1100
TZOFFSETTO:+1000
TZNAME:AEST
DTSTART:20260404T160000
END:STANDARD
BEGIN:DAYLIGHT
TZOFFSETFROM:+1000
TZOFFSETTO:+1100
TZNAME:AEDT
DTSTART:20261003T160000
END:DAYLIGHT
END:VTIMEZONE
BEGIN:VEVENT
DTSTART;TZID=Australia/Melbourne:20250412T100000
DTEND;TZID=Australia/Melbourne:20250412T190000
DTSTAMP:20260425T063900
CREATED:20250226T005631Z
LAST-MODIFIED:20250226T005632Z
UID:10000189-1744452000-1744484400@mauitabletopgamers.com
SUMMARY:CHARITY GAMING DAY
DESCRIPTION:
URL:https://mauitabletopgamers.com/eve/charity-gaming-day/
LOCATION:LA’ AKEA VILLAGE\, 639 Baldwin Ave\,\, Paia\, HI\, 96779\, United States
ORGANIZER;CN="GAMING FOR A CAUSE CORP":MAILTO:tabletop@mauigamers.com
END:VEVENT
END:VCALENDAR